BEGIN:VCALENDAR
VERSION:2.0
PRODID:-//WeFlip Entertainment - ECPv6.15.17//NONSGML v1.0//EN
CALSCALE:GREGORIAN
METHOD:PUBLISH
X-ORIGINAL-URL:https://wedoflips.com
X-WR-CALDESC:Events for WeFlip Entertainment
REFRESH-INTERVAL;VALUE=DURATION:PT1H
X-Robots-Tag:noindex
X-PUBLISHED-TTL:PT1H
BEGIN:VTIMEZONE
TZID:America/New_York
BEGIN:DAYLIGHT
TZOFFSETFROM:-0500
TZOFFSETTO:-0400
TZNAME:EDT
DTSTART:20250309T070000
END:DAYLIGHT
BEGIN:STANDARD
TZOFFSETFROM:-0400
TZOFFSETTO:-0500
TZNAME:EST
DTSTART:20251102T060000
END:STANDARD
BEGIN:DAYLIGHT
TZOFFSETFROM:-0500
TZOFFSETTO:-0400
TZNAME:EDT
DTSTART:20260308T070000
END:DAYLIGHT
BEGIN:STANDARD
TZOFFSETFROM:-0400
TZOFFSETTO:-0500
TZNAME:EST
DTSTART:20261101T060000
END:STANDARD
BEGIN:DAYLIGHT
TZOFFSETFROM:-0500
TZOFFSETTO:-0400
TZNAME:EDT
DTSTART:20270314T070000
END:DAYLIGHT
BEGIN:STANDARD
TZOFFSETFROM:-0400
TZOFFSETTO:-0500
TZNAME:EST
DTSTART:20271107T060000
END:STANDARD
END:VTIMEZONE
BEGIN:VEVENT
DTSTART;TZID=America/New_York:20260308T140000
DTEND;TZID=America/New_York:20260308T190000
DTSTAMP:20260425T125216
CREATED:20260126T153318Z
LAST-MODIFIED:20260308T223430Z
UID:10002769-1772978400-1772996400@wedoflips.com
SUMMARY:Bavarian Jugglers @ Seven Seas Food Festival
DESCRIPTION:Come visit WeFlip at SeaWorld Orlando’s Seven Seas Food Festival! Our Bavarian Jugglers bring bits of the German Culture to the Pretzel Kitchen!\nShow Times: \n215p\n315p\n415p\n515p\n6p\nMore info on event: https://seaworld.com/orlando/events/seven-seas-food-festival/
URL:https://wedoflips.com/event/bavarian-jugglers-seven-seas-food-festival-54/
LOCATION:SeaWorld Orlando\, 2299 Sue Ave\, Orlando\, FL\, United States
GEO:28.571607;-81.352378
X-APPLE-STRUCTURED-LOCATION;VALUE=URI;X-ADDRESS=SeaWorld Orlando 2299 Sue Ave Orlando FL United States;X-APPLE-RADIUS=500;X-TITLE=2299 Sue Ave:geo:-81.352378,28.571607
END:VEVENT
BEGIN:VEVENT
DTSTART;TZID=America/New_York:20260308T190000
DTEND;TZID=America/New_York:20260308T220000
DTSTAMP:20260425T125216
CREATED:20260223T054456Z
LAST-MODIFIED:20260309T003423Z
UID:10002813-1772996400-1773007200@wedoflips.com
SUMMARY:Disney's Boardwalk: Floating Statue
DESCRIPTION:Come see this one of a kind human statue on the boardwalk! How in the world does he do that?! Do what? You will have to see for yourself… Follow us at @weflipent on facebook\, instagram\, and tik tok for more details!
URL:https://wedoflips.com/event/disneys-boardwalk-floating-statue-149/
LOCATION:Disney’s Boardwalk Resort\, Orlando\, FL\, United States
GEO:28.383063;-81.573614
END:VEVENT
END:VCALENDAR