BEGIN:VCALENDAR
VERSION:2.0
PRODID:-//WeFlip Entertainment - ECPv6.15.17//NONSGML v1.0//EN
CALSCALE:GREGORIAN
METHOD:PUBLISH
X-ORIGINAL-URL:https://wedoflips.com
X-WR-CALDESC:Events for WeFlip Entertainment
REFRESH-INTERVAL;VALUE=DURATION:PT1H
X-Robots-Tag:noindex
X-PUBLISHED-TTL:PT1H
BEGIN:VTIMEZONE
TZID:America/New_York
BEGIN:DAYLIGHT
TZOFFSETFROM:-0500
TZOFFSETTO:-0400
TZNAME:EDT
DTSTART:20250309T070000
END:DAYLIGHT
BEGIN:STANDARD
TZOFFSETFROM:-0400
TZOFFSETTO:-0500
TZNAME:EST
DTSTART:20251102T060000
END:STANDARD
BEGIN:DAYLIGHT
TZOFFSETFROM:-0500
TZOFFSETTO:-0400
TZNAME:EDT
DTSTART:20260308T070000
END:DAYLIGHT
BEGIN:STANDARD
TZOFFSETFROM:-0400
TZOFFSETTO:-0500
TZNAME:EST
DTSTART:20261101T060000
END:STANDARD
BEGIN:DAYLIGHT
TZOFFSETFROM:-0500
TZOFFSETTO:-0400
TZNAME:EDT
DTSTART:20270314T070000
END:DAYLIGHT
BEGIN:STANDARD
TZOFFSETFROM:-0400
TZOFFSETTO:-0500
TZNAME:EST
DTSTART:20271107T060000
END:STANDARD
END:VTIMEZONE
BEGIN:VEVENT
DTSTART;TZID=America/New_York:20260309T080000
DTEND;TZID=America/New_York:20260309T153000
DTSTAMP:20260425T114139
CREATED:20260223T054457Z
LAST-MODIFIED:20260309T003423Z
UID:10002814-1773043200-1773070200@wedoflips.com
SUMMARY:Acrobatic Science @ Broward County School
DESCRIPTION:
URL:https://wedoflips.com/event/acrobatic-science-broward-county-school-2/
LOCATION:AL
END:VEVENT
BEGIN:VEVENT
DTSTART;TZID=America/New_York:20260309T130000
DTEND;TZID=America/New_York:20260309T220000
DTSTAMP:20260425T114139
CREATED:20260306T185151Z
LAST-MODIFIED:20260309T225431Z
UID:10002828-1773061200-1773093600@wedoflips.com
SUMMARY:Private Event - Fire Knife
DESCRIPTION:
URL:https://wedoflips.com/event/private-event-fire-knife/
LOCATION:AL
END:VEVENT
BEGIN:VEVENT
DTSTART;TZID=America/New_York:20260309T190000
DTEND;TZID=America/New_York:20260309T220000
DTSTAMP:20260425T114139
CREATED:20260223T064050Z
LAST-MODIFIED:20260309T225432Z
UID:10002815-1773082800-1773093600@wedoflips.com
SUMMARY:Disney's Boardwalk: Solo Show
DESCRIPTION:Come party with the Solo WeFlip Show at Disney's Boardwalk Resort!  \nOut on the pier\, this one man show will be doing things you thought you would never see! Follow us at @weflipent on facebook\, instagram\, and tik tok for more details!
URL:https://wedoflips.com/event/disneys-boardwalk-solo-show-208/
LOCATION:Disney’s Boardwalk Resort\, Orlando\, FL\, United States
GEO:28.383063;-81.573614
END:VEVENT
END:VCALENDAR