BEGIN:VCALENDAR
VERSION:2.0
PRODID:-//WeFlip Entertainment - ECPv6.15.17//NONSGML v1.0//EN
CALSCALE:GREGORIAN
METHOD:PUBLISH
X-ORIGINAL-URL:https://wedoflips.com
X-WR-CALDESC:Events for WeFlip Entertainment
REFRESH-INTERVAL;VALUE=DURATION:PT1H
X-Robots-Tag:noindex
X-PUBLISHED-TTL:PT1H
BEGIN:VTIMEZONE
TZID:America/New_York
BEGIN:DAYLIGHT
TZOFFSETFROM:-0500
TZOFFSETTO:-0400
TZNAME:EDT
DTSTART:20250309T070000
END:DAYLIGHT
BEGIN:STANDARD
TZOFFSETFROM:-0400
TZOFFSETTO:-0500
TZNAME:EST
DTSTART:20251102T060000
END:STANDARD
BEGIN:DAYLIGHT
TZOFFSETFROM:-0500
TZOFFSETTO:-0400
TZNAME:EDT
DTSTART:20260308T070000
END:DAYLIGHT
BEGIN:STANDARD
TZOFFSETFROM:-0400
TZOFFSETTO:-0500
TZNAME:EST
DTSTART:20261101T060000
END:STANDARD
BEGIN:DAYLIGHT
TZOFFSETFROM:-0500
TZOFFSETTO:-0400
TZNAME:EDT
DTSTART:20270314T070000
END:DAYLIGHT
BEGIN:STANDARD
TZOFFSETFROM:-0400
TZOFFSETTO:-0500
TZNAME:EST
DTSTART:20271107T060000
END:STANDARD
END:VTIMEZONE
BEGIN:VEVENT
DTSTART;TZID=America/New_York:20260320T190000
DTEND;TZID=America/New_York:20260320T220000
DTSTAMP:20260424T211952
CREATED:20260315T221000Z
LAST-MODIFIED:20260319T025057Z
UID:10002831-1774033200-1774044000@wedoflips.com
SUMMARY:Disney's Boardwalk: Solo Show
DESCRIPTION:Come party with the Solo WeFlip Show at Disney's Boardwalk Resort!  \nOut on the pier\, this one man show will be doing things you thought you would never see! Follow us at @weflipent on facebook\, instagram\, and tik tok for more details!
URL:https://wedoflips.com/event/disneys-boardwalk-solo-show-210/
LOCATION:Disney’s Boardwalk Resort\, Orlando\, FL\, United States
GEO:28.383063;-81.573614
END:VEVENT
BEGIN:VEVENT
DTSTART;TZID=America/New_York:20260320T190000
DTEND;TZID=America/New_York:20260320T220000
DTSTAMP:20260424T211952
CREATED:20260316T224010Z
LAST-MODIFIED:20260319T025057Z
UID:10002832-1774033200-1774044000@wedoflips.com
SUMMARY:Disney's Boardwalk: Boardwalk Bouncers
DESCRIPTION:Come party with the Boardwalk Bouncers at Disney's Boardwalk Resort! Out on the pier\, these three jump ropers will be doing the craziest tricks you have ever seen! Follow us at @weflipent on facebook\, instagram\, and tik tok for more details!
URL:https://wedoflips.com/event/disneys-boardwalk-boardwalk-bouncers-176/
LOCATION:Disney’s Boardwalk Resort\, Orlando\, FL\, United States
GEO:28.383063;-81.573614
END:VEVENT
END:VCALENDAR