BEGIN:VCALENDAR
VERSION:2.0
PRODID:-//WeFlip Entertainment - ECPv6.15.17//NONSGML v1.0//EN
CALSCALE:GREGORIAN
METHOD:PUBLISH
X-WR-CALNAME:WeFlip Entertainment
X-ORIGINAL-URL:https://wedoflips.com
X-WR-CALDESC:Events for WeFlip Entertainment
REFRESH-INTERVAL;VALUE=DURATION:PT1H
X-Robots-Tag:noindex
X-PUBLISHED-TTL:PT1H
BEGIN:VTIMEZONE
TZID:America/New_York
BEGIN:DAYLIGHT
TZOFFSETFROM:-0500
TZOFFSETTO:-0400
TZNAME:EDT
DTSTART:20250309T070000
END:DAYLIGHT
BEGIN:STANDARD
TZOFFSETFROM:-0400
TZOFFSETTO:-0500
TZNAME:EST
DTSTART:20251102T060000
END:STANDARD
BEGIN:DAYLIGHT
TZOFFSETFROM:-0500
TZOFFSETTO:-0400
TZNAME:EDT
DTSTART:20260308T070000
END:DAYLIGHT
BEGIN:STANDARD
TZOFFSETFROM:-0400
TZOFFSETTO:-0500
TZNAME:EST
DTSTART:20261101T060000
END:STANDARD
BEGIN:DAYLIGHT
TZOFFSETFROM:-0500
TZOFFSETTO:-0400
TZNAME:EDT
DTSTART:20270314T070000
END:DAYLIGHT
BEGIN:STANDARD
TZOFFSETFROM:-0400
TZOFFSETTO:-0500
TZNAME:EST
DTSTART:20271107T060000
END:STANDARD
END:VTIMEZONE
BEGIN:VEVENT
DTSTART;TZID=America/New_York:20260124T190000
DTEND;TZID=America/New_York:20260124T220000
DTSTAMP:20260422T203552
CREATED:20251230T050528Z
LAST-MODIFIED:20260124T101219Z
UID:10002742-1769281200-1769292000@wedoflips.com
SUMMARY:Disney's Boardwalk: Teeterboard Show
DESCRIPTION:Come party with the Teeterboard WeFlip Show at Disney's Boardwalk Resort!  \nOut on the pier\, this teeterboard show will be doing things you thought you would never see! Follow us at @weflipent on facebook\, instagram\, and tik tok for more details!
URL:https://wedoflips.com/event/disneys-boardwalk-teeterboard-show-124/
LOCATION:Disney’s Boardwalk Resort\, Orlando\, FL\, United States
GEO:28.383063;-81.573614
END:VEVENT
BEGIN:VEVENT
DTSTART;TZID=America/New_York:20260124T170000
DTEND;TZID=America/New_York:20260124T200000
DTSTAMP:20260422T203553
CREATED:20251230T050527Z
LAST-MODIFIED:20260124T101220Z
UID:10002741-1769274000-1769284800@wedoflips.com
SUMMARY:Universal CityWalk: Floating Statue
DESCRIPTION:Come visit our floating statue near the Plaza Stage!
URL:https://wedoflips.com/event/universal-citywalk-floating-statue-11/
LOCATION:Universal CityWalk Orlando\, 6000 Universal Blvd\, Orlando\, FL\, United States
GEO:28.477627;-81.46262
X-APPLE-STRUCTURED-LOCATION;VALUE=URI;X-ADDRESS=Universal CityWalk Orlando 6000 Universal Blvd Orlando FL United States;X-APPLE-RADIUS=500;X-TITLE=6000 Universal Blvd:geo:-81.46262,28.477627
END:VEVENT
BEGIN:VEVENT
DTSTART;TZID=America/New_York:20260123T190000
DTEND;TZID=America/New_York:20260123T220000
DTSTAMP:20260422T203553
CREATED:20251230T042737Z
LAST-MODIFIED:20260123T103031Z
UID:10002739-1769194800-1769205600@wedoflips.com
SUMMARY:Disney's Boardwalk: Teeterboard Show
DESCRIPTION:Come party with the Teeterboard WeFlip Show at Disney's Boardwalk Resort!  \nOut on the pier\, this teeterboard show will be doing things you thought you would never see! Follow us at @weflipent on facebook\, instagram\, and tik tok for more details!
URL:https://wedoflips.com/event/disneys-boardwalk-teeterboard-show-123/
LOCATION:Disney’s Boardwalk Resort\, Orlando\, FL\, United States
GEO:28.383063;-81.573614
END:VEVENT
BEGIN:VEVENT
DTSTART;TZID=America/New_York:20260123T190000
DTEND;TZID=America/New_York:20260123T220000
DTSTAMP:20260422T203553
CREATED:20251230T042737Z
LAST-MODIFIED:20260123T103032Z
UID:10002740-1769194800-1769205600@wedoflips.com
SUMMARY:Disney's Boardwalk: Floating Statue
DESCRIPTION:Come see this one of a kind human statue on the boardwalk! How in the world does he do that?! Do what? You will have to see for yourself… Follow us at @weflipent on facebook\, instagram\, and tik tok for more details!
URL:https://wedoflips.com/event/disneys-boardwalk-floating-statue-140/
LOCATION:Disney’s Boardwalk Resort\, Orlando\, FL\, United States
GEO:28.383063;-81.573614
END:VEVENT
BEGIN:VEVENT
DTSTART;TZID=America/New_York:20260122T190000
DTEND;TZID=America/New_York:20260122T220000
DTSTAMP:20260422T203553
CREATED:20251230T042737Z
LAST-MODIFIED:20260122T095315Z
UID:10002738-1769108400-1769119200@wedoflips.com
SUMMARY:Disney's Boardwalk: Floating Statue
DESCRIPTION:Come see this one of a kind human statue on the boardwalk! How in the world does he do that?! Do what? You will have to see for yourself… Follow us at @weflipent on facebook\, instagram\, and tik tok for more details!
URL:https://wedoflips.com/event/disneys-boardwalk-floating-statue-139/
LOCATION:Disney’s Boardwalk Resort\, Orlando\, FL\, United States
GEO:28.383063;-81.573614
END:VEVENT
END:VCALENDAR