BEGIN:VCALENDAR
VERSION:2.0
PRODID:-//WeFlip Entertainment - ECPv6.15.17//NONSGML v1.0//EN
CALSCALE:GREGORIAN
METHOD:PUBLISH
X-ORIGINAL-URL:https://wedoflips.com
X-WR-CALDESC:Events for WeFlip Entertainment
REFRESH-INTERVAL;VALUE=DURATION:PT1H
X-Robots-Tag:noindex
X-PUBLISHED-TTL:PT1H
BEGIN:VTIMEZONE
TZID:America/New_York
BEGIN:DAYLIGHT
TZOFFSETFROM:-0500
TZOFFSETTO:-0400
TZNAME:EDT
DTSTART:20250309T070000
END:DAYLIGHT
BEGIN:STANDARD
TZOFFSETFROM:-0400
TZOFFSETTO:-0500
TZNAME:EST
DTSTART:20251102T060000
END:STANDARD
BEGIN:DAYLIGHT
TZOFFSETFROM:-0500
TZOFFSETTO:-0400
TZNAME:EDT
DTSTART:20260308T070000
END:DAYLIGHT
BEGIN:STANDARD
TZOFFSETFROM:-0400
TZOFFSETTO:-0500
TZNAME:EST
DTSTART:20261101T060000
END:STANDARD
BEGIN:DAYLIGHT
TZOFFSETFROM:-0500
TZOFFSETTO:-0400
TZNAME:EDT
DTSTART:20270314T070000
END:DAYLIGHT
BEGIN:STANDARD
TZOFFSETFROM:-0400
TZOFFSETTO:-0500
TZNAME:EST
DTSTART:20271107T060000
END:STANDARD
END:VTIMEZONE
BEGIN:VEVENT
DTSTART;TZID=America/New_York:20260424T100000
DTEND;TZID=America/New_York:20260424T220000
DTSTAMP:20260422T061344
CREATED:20260419T223210Z
LAST-MODIFIED:20260421T224915Z
UID:10002882-1777024800-1777068000@wedoflips.com
SUMMARY:Alabama Strawberry Festival: Powerskips & Floating Statue
DESCRIPTION:Come join WeFlip and Incredible Service at the Alabama Strawberry Festival!! \nhttps://www.alabamastrawberryfest.com/
URL:https://wedoflips.com/event/alabama-strawberry-festival-powerskips-floating-statue/
LOCATION:Depot Park\, Cullman\, AL\, United States
GEO:34.111067;-86.853185
END:VEVENT
BEGIN:VEVENT
DTSTART;TZID=America/New_York:20260424T190000
DTEND;TZID=America/New_York:20260425T013000
DTSTAMP:20260422T061344
CREATED:20260419T223210Z
LAST-MODIFIED:20260421T224915Z
UID:10002881-1777057200-1777080600@wedoflips.com
SUMMARY:Grad Bash 2026: Jump Rope Show & WeParty
DESCRIPTION:
URL:https://wedoflips.com/event/grad-bash-2026-jump-rope-show-weparty-3/
END:VEVENT
BEGIN:VEVENT
DTSTART;TZID=America/New_York:20260425T070000
DTEND;TZID=America/New_York:20260425T080000
DTSTAMP:20260422T061344
CREATED:20260419T223211Z
LAST-MODIFIED:20260421T224915Z
UID:10002883-1777100400-1777104000@wedoflips.com
SUMMARY:SeaWorld Seven Seas Food Festival 5k: Bavarian Jugglers
DESCRIPTION:
URL:https://wedoflips.com/event/seaworld-seven-seas-food-festival-5k-bavarian-jugglers/
LOCATION:SeaWorld Orlando\, 2299 Sue Ave\, Orlando\, FL\, United States
GEO:28.571607;-81.352378
X-APPLE-STRUCTURED-LOCATION;VALUE=URI;X-ADDRESS=SeaWorld Orlando 2299 Sue Ave Orlando FL United States;X-APPLE-RADIUS=500;X-TITLE=2299 Sue Ave:geo:-81.352378,28.571607
END:VEVENT
BEGIN:VEVENT
DTSTART;TZID=America/New_York:20260425T140000
DTEND;TZID=America/New_York:20260425T190000
DTSTAMP:20260422T061344
CREATED:20260421T224916Z
LAST-MODIFIED:20260421T224916Z
UID:10002884-1777125600-1777143600@wedoflips.com
SUMMARY:Bavarian Jugglers @ Seven Seas Food Festival
DESCRIPTION:Come visit WeFlip at SeaWorld Orlando’s Seven Seas Food Festival! Our Bavarian Jugglers bring bits of the German Culture to the Pretzel Kitchen!\nShow Times: \n215p\n315p\n415p\n515p\n6p\nMore info on event: https://seaworld.com/orlando/events/seven-seas-food-festival/
URL:https://wedoflips.com/event/bavarian-jugglers-seven-seas-food-festival-67/
LOCATION:SeaWorld Orlando\, 2299 Sue Ave\, Orlando\, FL\, United States
GEO:28.571607;-81.352378
X-APPLE-STRUCTURED-LOCATION;VALUE=URI;X-ADDRESS=SeaWorld Orlando 2299 Sue Ave Orlando FL United States;X-APPLE-RADIUS=500;X-TITLE=2299 Sue Ave:geo:-81.352378,28.571607
END:VEVENT
END:VCALENDAR