BEGIN:VCALENDAR
VERSION:2.0
PRODID:-//WeFlip Entertainment - ECPv6.15.17//NONSGML v1.0//EN
CALSCALE:GREGORIAN
METHOD:PUBLISH
X-ORIGINAL-URL:https://wedoflips.com
X-WR-CALDESC:Events for WeFlip Entertainment
REFRESH-INTERVAL;VALUE=DURATION:PT1H
X-Robots-Tag:noindex
X-PUBLISHED-TTL:PT1H
BEGIN:VTIMEZONE
TZID:America/New_York
BEGIN:DAYLIGHT
TZOFFSETFROM:-0500
TZOFFSETTO:-0400
TZNAME:EDT
DTSTART:20250309T070000
END:DAYLIGHT
BEGIN:STANDARD
TZOFFSETFROM:-0400
TZOFFSETTO:-0500
TZNAME:EST
DTSTART:20251102T060000
END:STANDARD
BEGIN:DAYLIGHT
TZOFFSETFROM:-0500
TZOFFSETTO:-0400
TZNAME:EDT
DTSTART:20260308T070000
END:DAYLIGHT
BEGIN:STANDARD
TZOFFSETFROM:-0400
TZOFFSETTO:-0500
TZNAME:EST
DTSTART:20261101T060000
END:STANDARD
BEGIN:DAYLIGHT
TZOFFSETFROM:-0500
TZOFFSETTO:-0400
TZNAME:EDT
DTSTART:20270314T070000
END:DAYLIGHT
BEGIN:STANDARD
TZOFFSETFROM:-0400
TZOFFSETTO:-0500
TZNAME:EST
DTSTART:20271107T060000
END:STANDARD
END:VTIMEZONE
BEGIN:VEVENT
DTSTART;TZID=America/New_York:20260330T190000
DTEND;TZID=America/New_York:20260330T220000
DTSTAMP:20260422T045629
CREATED:20260329T023246Z
LAST-MODIFIED:20260330T071334Z
UID:10002851-1774897200-1774908000@wedoflips.com
SUMMARY:Disney's Boardwalk: Floating Statue
DESCRIPTION:Come see this one of a kind human statue on the boardwalk! How in the world does he do that?! Do what? You will have to see for yourself… Follow us at @weflipent on facebook\, instagram\, and tik tok for more details!
URL:https://wedoflips.com/event/disneys-boardwalk-floating-statue-153/
LOCATION:Disney’s Boardwalk Resort\, Orlando\, FL\, United States
GEO:28.383063;-81.573614
END:VEVENT
BEGIN:VEVENT
DTSTART;TZID=America/New_York:20260329T190000
DTEND;TZID=America/New_York:20260329T220000
DTSTAMP:20260422T045629
CREATED:20260329T023245Z
LAST-MODIFIED:20260329T023245Z
UID:10002848-1774810800-1774821600@wedoflips.com
SUMMARY:Disney's Boardwalk: Solo Show
DESCRIPTION:Come party with the Solo WeFlip Show at Disney's Boardwalk Resort!  \nOut on the pier\, this one man show will be doing things you thought you would never see! Follow us at @weflipent on facebook\, instagram\, and tik tok for more details!
URL:https://wedoflips.com/event/disneys-boardwalk-solo-show-213/
LOCATION:Disney’s Boardwalk Resort\, Orlando\, FL\, United States
GEO:28.383063;-81.573614
END:VEVENT
BEGIN:VEVENT
DTSTART;TZID=America/New_York:20260328T190000
DTEND;TZID=America/New_York:20260328T220000
DTSTAMP:20260422T045629
CREATED:20260327T035509Z
LAST-MODIFIED:20260327T065514Z
UID:10002845-1774724400-1774735200@wedoflips.com
SUMMARY:Disney's Boardwalk: Boardwalk Bouncers
DESCRIPTION:Come party with the Boardwalk Bouncers at Disney's Boardwalk Resort! Out on the pier\, these three jump ropers will be doing the craziest tricks you have ever seen! Follow us at @weflipent on facebook\, instagram\, and tik tok for more details!
URL:https://wedoflips.com/event/disneys-boardwalk-boardwalk-bouncers-178/
LOCATION:Disney’s Boardwalk Resort\, Orlando\, FL\, United States
GEO:28.383063;-81.573614
END:VEVENT
BEGIN:VEVENT
DTSTART;TZID=America/New_York:20260328T190000
DTEND;TZID=America/New_York:20260328T220000
DTSTAMP:20260422T045629
CREATED:20260325T002433Z
LAST-MODIFIED:20260328T025709Z
UID:10002844-1774724400-1774735200@wedoflips.com
SUMMARY:Disney's Boardwalk: Solo Show
DESCRIPTION:Come party with the Solo WeFlip Show at Disney's Boardwalk Resort!  \nOut on the pier\, this one man show will be doing things you thought you would never see! Follow us at @weflipent on facebook\, instagram\, and tik tok for more details!
URL:https://wedoflips.com/event/disneys-boardwalk-solo-show-212/
LOCATION:Disney’s Boardwalk Resort\, Orlando\, FL\, United States
GEO:28.383063;-81.573614
END:VEVENT
BEGIN:VEVENT
DTSTART;TZID=America/New_York:20260327T190000
DTEND;TZID=America/New_York:20260327T220000
DTSTAMP:20260422T045629
CREATED:20260323T150326Z
LAST-MODIFIED:20260328T025709Z
UID:10002842-1774638000-1774648800@wedoflips.com
SUMMARY:Disney's Boardwalk: Floating Statue
DESCRIPTION:Come see this one of a kind human statue on the boardwalk! How in the world does he do that?! Do what? You will have to see for yourself… Follow us at @weflipent on facebook\, instagram\, and tik tok for more details!
URL:https://wedoflips.com/event/disneys-boardwalk-floating-statue-152/
LOCATION:Disney’s Boardwalk Resort\, Orlando\, FL\, United States
GEO:28.383063;-81.573614
END:VEVENT
BEGIN:VEVENT
DTSTART;TZID=America/New_York:20260327T190000
DTEND;TZID=America/New_York:20260327T220000
DTSTAMP:20260422T045629
CREATED:20260323T150326Z
LAST-MODIFIED:20260328T025709Z
UID:10002841-1774638000-1774648800@wedoflips.com
SUMMARY:Disney's Boardwalk: Teeterboard Show
DESCRIPTION:Come party with the Teeterboard WeFlip Show at Disney's Boardwalk Resort!  \nOut on the pier\, this teeterboard show will be doing things you thought you would never see! Follow us at @weflipent on facebook\, instagram\, and tik tok for more details!
URL:https://wedoflips.com/event/disneys-boardwalk-teeterboard-show-134/
LOCATION:Disney’s Boardwalk Resort\, Orlando\, FL\, United States
GEO:28.383063;-81.573614
END:VEVENT
BEGIN:VEVENT
DTSTART;TZID=America/New_York:20260326T190000
DTEND;TZID=America/New_York:20260326T220000
DTSTAMP:20260422T045629
CREATED:20260323T150325Z
LAST-MODIFIED:20260327T025510Z
UID:10002840-1774551600-1774562400@wedoflips.com
SUMMARY:Disney's Boardwalk: Boardwalk Bouncers
DESCRIPTION:Come party with the Boardwalk Bouncers at Disney's Boardwalk Resort! Out on the pier\, these three jump ropers will be doing the craziest tricks you have ever seen! Follow us at @weflipent on facebook\, instagram\, and tik tok for more details!
URL:https://wedoflips.com/event/disneys-boardwalk-boardwalk-bouncers-177/
LOCATION:Disney’s Boardwalk Resort\, Orlando\, FL\, United States
GEO:28.383063;-81.573614
END:VEVENT
BEGIN:VEVENT
DTSTART;TZID=America/New_York:20260323T190000
DTEND;TZID=America/New_York:20260323T220000
DTSTAMP:20260422T045629
CREATED:20260322T125427Z
LAST-MODIFIED:20260323T185919Z
UID:10002839-1774292400-1774303200@wedoflips.com
SUMMARY:Disney's Boardwalk: Solo Show
DESCRIPTION:Come party with the Solo WeFlip Show at Disney's Boardwalk Resort!  \nOut on the pier\, this one man show will be doing things you thought you would never see! Follow us at @weflipent on facebook\, instagram\, and tik tok for more details!
URL:https://wedoflips.com/event/disneys-boardwalk-solo-show-211/
LOCATION:Disney’s Boardwalk Resort\, Orlando\, FL\, United States
GEO:28.383063;-81.573614
END:VEVENT
BEGIN:VEVENT
DTSTART;TZID=America/New_York:20260322T190000
DTEND;TZID=America/New_York:20260322T220000
DTSTAMP:20260422T045629
CREATED:20260321T122102Z
LAST-MODIFIED:20260322T125423Z
UID:10002837-1774206000-1774216800@wedoflips.com
SUMMARY:Disney's Boardwalk: Teeterboard Show
DESCRIPTION:Come party with the Teeterboard WeFlip Show at Disney's Boardwalk Resort!  \nOut on the pier\, this teeterboard show will be doing things you thought you would never see! Follow us at @weflipent on facebook\, instagram\, and tik tok for more details!
URL:https://wedoflips.com/event/disneys-boardwalk-teeterboard-show-133/
LOCATION:Disney’s Boardwalk Resort\, Orlando\, FL\, United States
GEO:28.383063;-81.573614
END:VEVENT
BEGIN:VEVENT
DTSTART;TZID=America/New_York:20260321T190000
DTEND;TZID=America/New_York:20260321T220000
DTSTAMP:20260422T045629
CREATED:20260316T224010Z
LAST-MODIFIED:20260321T122101Z
UID:10002833-1774119600-1774130400@wedoflips.com
SUMMARY:Disney's Boardwalk: Rhythm Breakers
DESCRIPTION:
URL:https://wedoflips.com/event/disneys-boardwalk-rhythm-breakers-35/
LOCATION:Disney’s Boardwalk Resort\, Orlando\, FL\, United States
GEO:28.383063;-81.573614
END:VEVENT
BEGIN:VEVENT
DTSTART;TZID=America/New_York:20260320T190000
DTEND;TZID=America/New_York:20260320T220000
DTSTAMP:20260422T045629
CREATED:20260316T224010Z
LAST-MODIFIED:20260319T025057Z
UID:10002832-1774033200-1774044000@wedoflips.com
SUMMARY:Disney's Boardwalk: Boardwalk Bouncers
DESCRIPTION:Come party with the Boardwalk Bouncers at Disney's Boardwalk Resort! Out on the pier\, these three jump ropers will be doing the craziest tricks you have ever seen! Follow us at @weflipent on facebook\, instagram\, and tik tok for more details!
URL:https://wedoflips.com/event/disneys-boardwalk-boardwalk-bouncers-176/
LOCATION:Disney’s Boardwalk Resort\, Orlando\, FL\, United States
GEO:28.383063;-81.573614
END:VEVENT
BEGIN:VEVENT
DTSTART;TZID=America/New_York:20260320T190000
DTEND;TZID=America/New_York:20260320T220000
DTSTAMP:20260422T045629
CREATED:20260315T221000Z
LAST-MODIFIED:20260319T025057Z
UID:10002831-1774033200-1774044000@wedoflips.com
SUMMARY:Disney's Boardwalk: Solo Show
DESCRIPTION:Come party with the Solo WeFlip Show at Disney's Boardwalk Resort!  \nOut on the pier\, this one man show will be doing things you thought you would never see! Follow us at @weflipent on facebook\, instagram\, and tik tok for more details!
URL:https://wedoflips.com/event/disneys-boardwalk-solo-show-210/
LOCATION:Disney’s Boardwalk Resort\, Orlando\, FL\, United States
GEO:28.383063;-81.573614
END:VEVENT
BEGIN:VEVENT
DTSTART;TZID=America/New_York:20260319T190000
DTEND;TZID=America/New_York:20260319T220000
DTSTAMP:20260422T045629
CREATED:20260315T221000Z
LAST-MODIFIED:20260319T025057Z
UID:10002830-1773946800-1773957600@wedoflips.com
SUMMARY:Disney's Boardwalk: Teeterboard Show
DESCRIPTION:Come party with the Teeterboard WeFlip Show at Disney's Boardwalk Resort!  \nOut on the pier\, this teeterboard show will be doing things you thought you would never see! Follow us at @weflipent on facebook\, instagram\, and tik tok for more details!
URL:https://wedoflips.com/event/disneys-boardwalk-teeterboard-show-132/
LOCATION:Disney’s Boardwalk Resort\, Orlando\, FL\, United States
GEO:28.383063;-81.573614
END:VEVENT
BEGIN:VEVENT
DTSTART;TZID=America/New_York:20260316T190000
DTEND;TZID=America/New_York:20260316T220000
DTSTAMP:20260422T045629
CREATED:20260223T074459Z
LAST-MODIFIED:20260317T012057Z
UID:10002825-1773687600-1773698400@wedoflips.com
SUMMARY:Disney's Boardwalk: Floating Statue
DESCRIPTION:Come see this one of a kind human statue on the boardwalk! How in the world does he do that?! Do what? You will have to see for yourself… Follow us at @weflipent on facebook\, instagram\, and tik tok for more details!
URL:https://wedoflips.com/event/disneys-boardwalk-floating-statue-151/
LOCATION:Disney’s Boardwalk Resort\, Orlando\, FL\, United States
GEO:28.383063;-81.573614
END:VEVENT
BEGIN:VEVENT
DTSTART;TZID=America/New_York:20260315T190000
DTEND;TZID=America/New_York:20260315T220000
DTSTAMP:20260422T045629
CREATED:20260223T074458Z
LAST-MODIFIED:20260315T230958Z
UID:10002824-1773601200-1773612000@wedoflips.com
SUMMARY:Disney's Boardwalk: Teeterboard Show
DESCRIPTION:Come party with the Teeterboard WeFlip Show at Disney's Boardwalk Resort!  \nOut on the pier\, this teeterboard show will be doing things you thought you would never see! Follow us at @weflipent on facebook\, instagram\, and tik tok for more details!
URL:https://wedoflips.com/event/disneys-boardwalk-teeterboard-show-131/
LOCATION:Disney’s Boardwalk Resort\, Orlando\, FL\, United States
GEO:28.383063;-81.573614
END:VEVENT
BEGIN:VEVENT
DTSTART;TZID=America/New_York:20260314T190000
DTEND;TZID=America/New_York:20260314T220000
DTSTAMP:20260422T045629
CREATED:20260223T064458Z
LAST-MODIFIED:20260314T232148Z
UID:10002822-1773514800-1773525600@wedoflips.com
SUMMARY:Disney's Boardwalk: Solo Show
DESCRIPTION:Come party with the Solo WeFlip Show at Disney's Boardwalk Resort!  \nOut on the pier\, this one man show will be doing things you thought you would never see! Follow us at @weflipent on facebook\, instagram\, and tik tok for more details!
URL:https://wedoflips.com/event/disneys-boardwalk-solo-show-209/
LOCATION:Disney’s Boardwalk Resort\, Orlando\, FL\, United States
GEO:28.383063;-81.573614
END:VEVENT
BEGIN:VEVENT
DTSTART;TZID=America/New_York:20260314T190000
DTEND;TZID=America/New_York:20260314T220000
DTSTAMP:20260422T045629
CREATED:20260223T064457Z
LAST-MODIFIED:20260314T232147Z
UID:10002821-1773514800-1773525600@wedoflips.com
SUMMARY:Disney's Boardwalk: Boardwalk Bouncers
DESCRIPTION:Come party with the Boardwalk Bouncers at Disney's Boardwalk Resort! Out on the pier\, these three jump ropers will be doing the craziest tricks you have ever seen! Follow us at @weflipent on facebook\, instagram\, and tik tok for more details!
URL:https://wedoflips.com/event/disneys-boardwalk-boardwalk-bouncers-175/
LOCATION:Disney’s Boardwalk Resort\, Orlando\, FL\, United States
GEO:28.383063;-81.573614
END:VEVENT
BEGIN:VEVENT
DTSTART;TZID=America/New_York:20260313T190000
DTEND;TZID=America/New_York:20260313T220000
DTSTAMP:20260422T045629
CREATED:20260223T064457Z
LAST-MODIFIED:20260314T002240Z
UID:10002819-1773428400-1773439200@wedoflips.com
SUMMARY:Disney's Boardwalk: Teeterboard Show
DESCRIPTION:Come party with the Teeterboard WeFlip Show at Disney's Boardwalk Resort!  \nOut on the pier\, this teeterboard show will be doing things you thought you would never see! Follow us at @weflipent on facebook\, instagram\, and tik tok for more details!
URL:https://wedoflips.com/event/disneys-boardwalk-teeterboard-show-130/
LOCATION:Disney’s Boardwalk Resort\, Orlando\, FL\, United States
GEO:28.383063;-81.573614
END:VEVENT
BEGIN:VEVENT
DTSTART;TZID=America/New_York:20260313T190000
DTEND;TZID=America/New_York:20260313T220000
DTSTAMP:20260422T045629
CREATED:20260223T064456Z
LAST-MODIFIED:20260314T002240Z
UID:10002818-1773428400-1773439200@wedoflips.com
SUMMARY:Disney's Boardwalk: Floating Statue
DESCRIPTION:Come see this one of a kind human statue on the boardwalk! How in the world does he do that?! Do what? You will have to see for yourself… Follow us at @weflipent on facebook\, instagram\, and tik tok for more details!
URL:https://wedoflips.com/event/disneys-boardwalk-floating-statue-150/
LOCATION:Disney’s Boardwalk Resort\, Orlando\, FL\, United States
GEO:28.383063;-81.573614
END:VEVENT
BEGIN:VEVENT
DTSTART;TZID=America/New_York:20260312T190000
DTEND;TZID=America/New_York:20260312T220000
DTSTAMP:20260422T045629
CREATED:20260223T064343Z
LAST-MODIFIED:20260312T223955Z
UID:10002817-1773342000-1773352800@wedoflips.com
SUMMARY:Disney's Boardwalk: BMX
DESCRIPTION:Come party with our roaming BMX superstar at Disney's Boardwalk Resort!  \n Follow us at @weflipent on facebook\, instagram\, and tik tok for more details!
URL:https://wedoflips.com/event/disneys-boardwalk-bmx-17/
LOCATION:Disney’s Boardwalk Resort\, Orlando\, FL\, United States
GEO:28.383063;-81.573614
END:VEVENT
BEGIN:VEVENT
DTSTART;TZID=America/New_York:20260309T190000
DTEND;TZID=America/New_York:20260309T220000
DTSTAMP:20260422T045629
CREATED:20260223T064050Z
LAST-MODIFIED:20260309T225432Z
UID:10002815-1773082800-1773093600@wedoflips.com
SUMMARY:Disney's Boardwalk: Solo Show
DESCRIPTION:Come party with the Solo WeFlip Show at Disney's Boardwalk Resort!  \nOut on the pier\, this one man show will be doing things you thought you would never see! Follow us at @weflipent on facebook\, instagram\, and tik tok for more details!
URL:https://wedoflips.com/event/disneys-boardwalk-solo-show-208/
LOCATION:Disney’s Boardwalk Resort\, Orlando\, FL\, United States
GEO:28.383063;-81.573614
END:VEVENT
BEGIN:VEVENT
DTSTART;TZID=America/New_York:20260308T190000
DTEND;TZID=America/New_York:20260308T220000
DTSTAMP:20260422T045629
CREATED:20260223T054456Z
LAST-MODIFIED:20260309T003423Z
UID:10002813-1772996400-1773007200@wedoflips.com
SUMMARY:Disney's Boardwalk: Floating Statue
DESCRIPTION:Come see this one of a kind human statue on the boardwalk! How in the world does he do that?! Do what? You will have to see for yourself… Follow us at @weflipent on facebook\, instagram\, and tik tok for more details!
URL:https://wedoflips.com/event/disneys-boardwalk-floating-statue-149/
LOCATION:Disney’s Boardwalk Resort\, Orlando\, FL\, United States
GEO:28.383063;-81.573614
END:VEVENT
BEGIN:VEVENT
DTSTART;TZID=America/New_York:20260307T190000
DTEND;TZID=America/New_York:20260307T220000
DTSTAMP:20260422T045629
CREATED:20260223T054456Z
LAST-MODIFIED:20260306T175151Z
UID:10002812-1772910000-1772920800@wedoflips.com
SUMMARY:Disney's Boardwalk: Teeterboard Show
DESCRIPTION:Come party with the Teeterboard WeFlip Show at Disney's Boardwalk Resort!  \nOut on the pier\, this teeterboard show will be doing things you thought you would never see! Follow us at @weflipent on facebook\, instagram\, and tik tok for more details!
URL:https://wedoflips.com/event/disneys-boardwalk-teeterboard-show-129/
LOCATION:Disney’s Boardwalk Resort\, Orlando\, FL\, United States
GEO:28.383063;-81.573614
END:VEVENT
BEGIN:VEVENT
DTSTART;TZID=America/New_York:20260306T190000
DTEND;TZID=America/New_York:20260306T220000
DTSTAMP:20260422T045629
CREATED:20260223T050442Z
LAST-MODIFIED:20260306T175150Z
UID:10002811-1772823600-1772834400@wedoflips.com
SUMMARY:Disney's Boardwalk: Solo Show
DESCRIPTION:Come party with the Solo WeFlip Show at Disney's Boardwalk Resort!  \nOut on the pier\, this one man show will be doing things you thought you would never see! Follow us at @weflipent on facebook\, instagram\, and tik tok for more details!
URL:https://wedoflips.com/event/disneys-boardwalk-solo-show-207/
LOCATION:Disney’s Boardwalk Resort\, Orlando\, FL\, United States
GEO:28.383063;-81.573614
END:VEVENT
BEGIN:VEVENT
DTSTART;TZID=America/New_York:20260306T190000
DTEND;TZID=America/New_York:20260306T220000
DTSTAMP:20260422T045629
CREATED:20260223T050442Z
LAST-MODIFIED:20260306T175150Z
UID:10002810-1772823600-1772834400@wedoflips.com
SUMMARY:Disney's Boardwalk: Boardwalk Bouncers
DESCRIPTION:Come party with the Boardwalk Bouncers at Disney's Boardwalk Resort! Out on the pier\, these three jump ropers will be doing the craziest tricks you have ever seen! Follow us at @weflipent on facebook\, instagram\, and tik tok for more details!
URL:https://wedoflips.com/event/disneys-boardwalk-boardwalk-bouncers-174/
LOCATION:Disney’s Boardwalk Resort\, Orlando\, FL\, United States
GEO:28.383063;-81.573614
END:VEVENT
BEGIN:VEVENT
DTSTART;TZID=America/New_York:20260305T190000
DTEND;TZID=America/New_York:20260305T220000
DTSTAMP:20260422T045629
CREATED:20260223T050442Z
LAST-MODIFIED:20260304T163757Z
UID:10002809-1772737200-1772748000@wedoflips.com
SUMMARY:Disney's Boardwalk: Floating Statue
DESCRIPTION:Come see this one of a kind human statue on the boardwalk! How in the world does he do that?! Do what? You will have to see for yourself… Follow us at @weflipent on facebook\, instagram\, and tik tok for more details!
URL:https://wedoflips.com/event/disneys-boardwalk-floating-statue-148/
LOCATION:Disney’s Boardwalk Resort\, Orlando\, FL\, United States
GEO:28.383063;-81.573614
END:VEVENT
BEGIN:VEVENT
DTSTART;TZID=America/New_York:20260302T190000
DTEND;TZID=America/New_York:20260302T220000
DTSTAMP:20260422T045629
CREATED:20260223T044451Z
LAST-MODIFIED:20260302T150848Z
UID:10002807-1772478000-1772488800@wedoflips.com
SUMMARY:Disney's Boardwalk: Solo Show
DESCRIPTION:Come party with the Solo WeFlip Show at Disney's Boardwalk Resort!  \nOut on the pier\, this one man show will be doing things you thought you would never see! Follow us at @weflipent on facebook\, instagram\, and tik tok for more details!
URL:https://wedoflips.com/event/disneys-boardwalk-solo-show-206/
LOCATION:Disney’s Boardwalk Resort\, Orlando\, FL\, United States
GEO:28.383063;-81.573614
END:VEVENT
BEGIN:VEVENT
DTSTART;TZID=America/New_York:20260301T190000
DTEND;TZID=America/New_York:20260301T220000
DTSTAMP:20260422T045629
CREATED:20260209T210846Z
LAST-MODIFIED:20260301T145332Z
UID:10002804-1772391600-1772402400@wedoflips.com
SUMMARY:Disney's Boardwalk: Solo Show
DESCRIPTION:Come party with the Solo WeFlip Show at Disney's Boardwalk Resort!  \nOut on the pier\, this one man show will be doing things you thought you would never see! Follow us at @weflipent on facebook\, instagram\, and tik tok for more details!
URL:https://wedoflips.com/event/disneys-boardwalk-solo-show-205/
LOCATION:Disney’s Boardwalk Resort\, Orlando\, FL\, United States
GEO:28.383063;-81.573614
END:VEVENT
BEGIN:VEVENT
DTSTART;TZID=America/New_York:20260228T190000
DTEND;TZID=America/New_York:20260228T220000
DTSTAMP:20260422T045629
CREATED:20260209T210845Z
LAST-MODIFIED:20260228T145435Z
UID:10002803-1772305200-1772316000@wedoflips.com
SUMMARY:Disney's Boardwalk: Boardwalk Bouncers
DESCRIPTION:Come party with the Boardwalk Bouncers at Disney's Boardwalk Resort! Out on the pier\, these three jump ropers will be doing the craziest tricks you have ever seen! Follow us at @weflipent on facebook\, instagram\, and tik tok for more details!
URL:https://wedoflips.com/event/disneys-boardwalk-boardwalk-bouncers-173/
LOCATION:Disney’s Boardwalk Resort\, Orlando\, FL\, United States
GEO:28.383063;-81.573614
END:VEVENT
BEGIN:VEVENT
DTSTART;TZID=America/New_York:20260227T190000
DTEND;TZID=America/New_York:20260227T220000
DTSTAMP:20260422T045629
CREATED:20260209T210845Z
LAST-MODIFIED:20260227T143323Z
UID:10002802-1772218800-1772229600@wedoflips.com
SUMMARY:Disney's Boardwalk: Teeterboard Show
DESCRIPTION:Come party with the Teeterboard WeFlip Show at Disney's Boardwalk Resort!  \nOut on the pier\, this teeterboard show will be doing things you thought you would never see! Follow us at @weflipent on facebook\, instagram\, and tik tok for more details!
URL:https://wedoflips.com/event/disneys-boardwalk-teeterboard-show-128/
LOCATION:Disney’s Boardwalk Resort\, Orlando\, FL\, United States
GEO:28.383063;-81.573614
END:VEVENT
END:VCALENDAR